0.075
0
0
-0.075
616286.3094
4777898.319
