0.075
0
0
-0.075
616706.0635
4777906.231
