0.075
0
0
-0.075
618869.1275
4777650.345
