0.0679730840277488
-0.0316963696305525
-0.0316963696305525
-0.0679730840277488
618297.906129679
4776628.24499693
