0.0679730840277488
-0.0316963696305525
-0.0316963696305525
-0.0679730840277488
618135.273782372
4776244.26306525
