0.0614364033216744
0.0430182327263285
0.0430182327263285
-0.0614364033216744
615006.8658967
4774823.29261232
