0.0738605814759156
0.0130236133250198
0.0130236133250198
-0.0738605814759156
613211.009399771
4776040.6013044
