0.103404814066282
-0.0182330586550277
-0.0182330586550277
-0.103404814066282
586723.961364238
4736871.76581965
