0.103404814066282
-0.0182330586550277
-0.0182330586550277
-0.103404814066282
586830.818276192
4737425.20945227
