0.103404814066282
-0.0182330586550277
-0.0182330586550277
-0.103404814066282
587372.16919489
4740182.01534099
