0.103404814066282
-0.0182330586550277
-0.0182330586550277
-0.103404814066282
587480.422324279
4740733.40124631
