0.104600443299633
-0.00915135298850411
-0.00915135298850411
-0.104600443299633
587698.274430212
4735010.07724156
