0.104600443299633
-0.00915135298850411
-0.00915135298850411
-0.104600443299633
588215.836890891
4739197.9506644
