0.105
0
0
-0.105
589238.9818
4739257.2865
