-0.00324983
0.122179009
0.122179009
0.00324983
612205.0559
4656559.37
