-0.003494182
0.122172265
0.122172265
0.003494182
612211.3421
4657431.405
