-0.003187322
0.122180655
0.122180655
0.003187322
612368.7145
4656506.081
