0.007866568
0.121968802
0.121968802
-0.007866568
612382.931
4656839.851
