0.009414011
0.121859132
0.121859132
-0.009414011
612945.6158
4654596.203
