0.004917715
0.122123248
0.122123248
-0.004917715
612961.4764
4654852.746
