0.000731857
0.122220031
0.122220031
-0.000731857
612866.8126
4656289.589
