-4.38753E-10
0.122222222
0.122222222
4.38753E-10
612865.475
4656422.933
