-4.38753E-10
0.122222222
0.122222222
4.38753E-10
612851.288
4657130.218
