0.010437918
0.121775701
0.121775701
-0.010437918
613365.7275
4655104.629
