0.002468633
0.122197289
0.122197289
-0.002468633
613381.6911
4655187.015
