0.001955305
0.122206581
0.122206581
-0.001955305
613229.0821
4656355.671
