-0.002242232
0.122201653
0.122201653
0.002242232
613258.1662
4657528.437
