-0.002528195
0.122196071
0.122196071
0.002528195
613266.5238
4657915.109
