-0.000898669
0.122218918
0.122218918
0.000898669
613262.1156
4658085.329
