-0.002088964
0.122204369
0.122204369
0.002088964
613263.3285
4658642.458
