0.00544399
0.122100919
0.122100919
-0.00544399
613220.042
4659357.32
