0.013334558
0.121492638
0.121492638
-0.013334558
613622.4242
4654929.074
