-0.004285862
0.122147055
0.122147055
0.004285862
613706.7377
4655336.163
