-0.003441514
0.12217376
0.12217376
0.003441514
613738.3585
4655584.762
