-0.003080254
0.122183401
0.122183401
0.003080254
613747.9651
4656141.781
