-0.003159863
0.122181369
0.122181369
0.003159863
613746.5991
4656297.749
