-4.38753E-10
0.122222222
0.122222222
4.38753E-10
613746.121
4656755.295
