0.004164248
0.122151261
0.122151261
-0.004164248
613742.0255
4656920.795
