-0.013956638
0.121422748
0.121422748
0.013956638
613669.2853
4658093.078
