-4.38753E-10
0.122222222
0.122222222
4.38753E-10
614187.655
4655247.989
