-0.004482202
0.122140007
0.122140007
0.004482202
614183.9673
4656895.331
