-0.001388799
0.122214331
0.122214331
0.001388799
614183.311
4657025.164
