-0.005709189
0.122088807
0.122088807
0.005709189
614130.3681
4658742.953
