-0.004164248
0.122151261
0.122151261
0.004164248
614084.2238
4659431.749
