0.001027042
0.122217907
0.122217907
-0.001027042
614592.7979
4655242.398
