-0.001091226
0.122217351
0.122217351
0.001091226
614581.8973
4655669.5
