-0.006833738
0.122031027
0.122031027
0.006833738
614612.4485
4656560.41
