-0.003847611
0.122161645
0.122161645
0.003847611
614606.6464
4657619.085
