-0.002460351
0.122197456
0.122197456
0.002460351
614591.8053
4658111.854
