-0.003490639
0.122172366
0.122172366
0.003490639
614571.956
4659171.955
